BEGIN:VCALENDAR
VERSION:2.0
X-WR-CALNAME:Conservatorio Superior de Música de Vigo
BEGIN:VEVENT
SUMMARY:Recital de Piano – Marianna Prjevalskaya
URL;VALUE=URI:http://conservatoriosuperiorvigo.com/blog/2011/03/14/recital-
	de-piano-marianna-prjevalskaya-2/
SEQUENCE:
UID:87-http://conservatoriosuperiorvigo.com/blog/2011/03/14/recital-de-pian
	o-marianna-prjevalskaya-2/
DESCRIPTION: [by: jesusvicente]
TRANSP:OPAQUE
DTSTART;VALUE=DATE-TIME:20110316T193000Z
DTEND;VALUE=DATE-TIME:20110316T213000Z
END:VEVENT
BEGIN:VEVENT
SUMMARY:Recital do Departamento de Piano
URL;VALUE=URI:http://conservatoriosuperiorvigo.com/blog/2011/03/14/recital-
	do-departamento-de-piano/
SEQUENCE:
UID:89-http://conservatoriosuperiorvigo.com/blog/2011/03/14/recital-do-depa
	rtamento-de-piano/
DESCRIPTION:PROGRAMA DE CONCIERTO DE PIANO\, 17 de marzo ******************
	********* MARÍA GORETTI DOMÍNGUEZ DOMÍNGUEZ F.Mendelssohn. Variaciones s
	erias op.54 ******** LAURA BARREIRO E.Granados: Tres danzas españolas ****
	****** ALBA DÍAZ TABOADA F.Liszt: Estudio&#8221\;La leggierezza&#8221\; A.
	Ginastera: 12 Preludios Americanos: 1.Para los acentos 2.Tríste 3.Danza cr
	iolla 4.Vidala 5.En el 1ºmodo pentáfono menor 6.Homenaje a Roberto garcí
	a morillo 7.Para las octavas [...] [by: jesusvicente]
TRANSP:OPAQUE
DTSTART;VALUE=DATE-TIME:20110317T200000Z
DTEND;VALUE=DATE-TIME:20110317T220000Z
END:VEVENT
BEGIN:VEVENT
SUMMARY:Concerto fin de Carreira &#8211\; Violín &#8211\; Ángela Neto Dom
	ingues
URL;VALUE=URI:http://conservatoriosuperiorvigo.com/blog/2011/02/03/concerto
	-fin-de-carreira-violin-angela-neto-domingues/
SEQUENCE:
UID:75-http://conservatoriosuperiorvigo.com/blog/2011/02/03/concerto-fin-de
	-carreira-violin-angela-neto-domingues/
DESCRIPTION: [by: jesusvicente]
TRANSP:OPAQUE
DTSTART;VALUE=DATE-TIME:20110318T200000Z
DTEND;VALUE=DATE-TIME:20110318T220000Z
END:VEVENT
BEGIN:VEVENT
SUMMARY:Recital piano – Roberta Bambace
URL;VALUE=URI:http://conservatoriosuperiorvigo.com/blog/2011/03/14/recital-
	piano-%e2%80%93-roberta-bambace/
SEQUENCE:
UID:91-http://conservatoriosuperiorvigo.com/blog/2011/03/14/recital-piano-%
	e2%80%93-roberta-bambace/
DESCRIPTION: [by: jesusvicente]
TRANSP:OPAQUE
DTSTART;VALUE=DATE-TIME:20110321T200000Z
DTEND;VALUE=DATE-TIME:20110321T210000Z
END:VEVENT
BEGIN:VEVENT
SUMMARY:Recital Canto-Piano — Thomas Busch – Barítono — Roberta Bamb
	ace – Piano
URL;VALUE=URI:http://conservatoriosuperiorvigo.com/blog/2011/03/14/recital-
	canto-piano-%e2%80%94-thomas-busch-%e2%80%93-baritono-%e2%80%94-roberta-bam
	bace-%e2%80%93-piano/
SEQUENCE:
UID:93-http://conservatoriosuperiorvigo.com/blog/2011/03/14/recital-canto-p
	iano-%e2%80%94-thomas-busch-%e2%80%93-baritono-%e2%80%94-roberta-bambace-%e
	2%80%93-piano/
DESCRIPTION: [by: jesusvicente]
TRANSP:OPAQUE
DTSTART;VALUE=DATE-TIME:20110322T200000Z
DTEND;VALUE=DATE-TIME:20110322T220000Z
END:VEVENT
BEGIN:VEVENT
SUMMARY:Concerto fin de Carreira &#8211\; Piano &#8211\; Alba Díaz Taboada
URL;VALUE=URI:http://conservatoriosuperiorvigo.com/blog/2011/02/03/concerto
	-fin-de-carreira-piano-alba-diaz-taboada/
SEQUENCE:
UID:79-http://conservatoriosuperiorvigo.com/blog/2011/02/03/concerto-fin-de
	-carreira-piano-alba-diaz-taboada/
DESCRIPTION: [by: jesusvicente]
TRANSP:OPAQUE
DTSTART;VALUE=DATE-TIME:20110323T200000Z
DTEND;VALUE=DATE-TIME:20110323T220000Z
END:VEVENT
BEGIN:VEVENT
SUMMARY:Concerto fin de Carreira &#8211\; Saxofón &#8211\; José Antonio V
	arela Gotriz
URL;VALUE=URI:http://conservatoriosuperiorvigo.com/blog/2011/02/03/concerto
	-fin-de-carreira-saxofon-jose-antonio-varela-gotriz/
SEQUENCE:
UID:77-http://conservatoriosuperiorvigo.com/blog/2011/02/03/concerto-fin-de
	-carreira-saxofon-jose-antonio-varela-gotriz/
DESCRIPTION: [by: jesusvicente]
TRANSP:OPAQUE
DTSTART;VALUE=DATE-TIME:20110324T200000Z
DTEND;VALUE=DATE-TIME:20110324T220000Z
END:VEVENT
BEGIN:VEVENT
SUMMARY:Concerto fin de Carreira &#8211\; Guitarra &#8211\; Miguel Bellas H
	ernández
URL;VALUE=URI:http://conservatoriosuperiorvigo.com/blog/2011/02/03/concerto
	-fin-de-carreira-guitarra-miguel-bellas-hernandez/
SEQUENCE:
UID:81-http://conservatoriosuperiorvigo.com/blog/2011/02/03/concerto-fin-de
	-carreira-guitarra-miguel-bellas-hernandez/
DESCRIPTION: [by: jesusvicente]
TRANSP:OPAQUE
DTSTART;VALUE=DATE-TIME:20110329T200000Z
DTEND;VALUE=DATE-TIME:20110329T220000Z
END:VEVENT
BEGIN:VEVENT
SUMMARY:Concerto fin de Carreira &#8211\; Composición
URL;VALUE=URI:http://conservatoriosuperiorvigo.com/blog/2011/02/03/concerto
	-fin-de-carreira-composicion/
SEQUENCE:
UID:83-http://conservatoriosuperiorvigo.com/blog/2011/02/03/concerto-fin-de
	-carreira-composicion/
DESCRIPTION:Juan Luis Costas Martínez Patricia Goberna García 30 de Marzo
	 ás 20:oo horas Obras de cámara Obra de Orquestra de Ventos (Juan Luís C
	ostas Martínez) [by: jesusvicente]
TRANSP:OPAQUE
DTSTART;VALUE=DATE-TIME:20110330T200000Z
DTEND;VALUE=DATE-TIME:20110330T220000Z
END:VEVENT
BEGIN:VEVENT
SUMMARY:Concerto Fin de Carreira Composición- Concerto Orquestra Sinfónic
	a
URL;VALUE=URI:http://conservatoriosuperiorvigo.com/blog/2011/02/08/concerto
	-fin-de-carreira-orquestra-sinfonica/
SEQUENCE:
UID:85-http://conservatoriosuperiorvigo.com/blog/2011/02/08/concerto-fin-de
	-carreira-orquestra-sinfonica/
DESCRIPTION:Fin de Carreira Composición Obra de Orquestra Sinfónica (Patr
	icia Goberna García) Concerto da Orquestra Sinfónica do Conservatorio 20 
	de marzo ás 20:00 horas [by: jesusvicente]
TRANSP:OPAQUE
DTSTART;VALUE=DATE-TIME:20110331T200000Z
DTEND;VALUE=DATE-TIME:20110401T070000Z
END:VEVENT
END:VCALENDAR
